BEGIN:VCALENDAR
VERSION:2.0
PRODID:-//Casino RSM Club  - ECPv6.15.20//NONSGML v1.0//EN
CALSCALE:GREGORIAN
METHOD:PUBLISH
X-WR-CALNAME:Casino RSM Club 
X-ORIGINAL-URL:https://casinorsm.com.au
X-WR-CALDESC:Events for Casino RSM Club 
REFRESH-INTERVAL;VALUE=DURATION:PT1H
X-Robots-Tag:noindex
X-PUBLISHED-TTL:PT1H
BEGIN:VTIMEZONE
TZID:Australia/Sydney
BEGIN:STANDARD
TZOFFSETFROM:+1100
TZOFFSETTO:+1000
TZNAME:AEST
DTSTART:20240406T160000
END:STANDARD
BEGIN:DAYLIGHT
TZOFFSETFROM:+1000
TZOFFSETTO:+1100
TZNAME:AEDT
DTSTART:20241005T160000
END:DAYLIGHT
BEGIN:STANDARD
TZOFFSETFROM:+1100
TZOFFSETTO:+1000
TZNAME:AEST
DTSTART:20250405T160000
END:STANDARD
BEGIN:DAYLIGHT
TZOFFSETFROM:+1000
TZOFFSETTO:+1100
TZNAME:AEDT
DTSTART:20251004T160000
END:DAYLIGHT
BEGIN:STANDARD
TZOFFSETFROM:+1100
TZOFFSETTO:+1000
TZNAME:AEST
DTSTART:20260404T160000
END:STANDARD
BEGIN:DAYLIGHT
TZOFFSETFROM:+1000
TZOFFSETTO:+1100
TZNAME:AEDT
DTSTART:20261003T160000
END:DAYLIGHT
END:VTIMEZONE
BEGIN:VEVENT
DTSTART;TZID=Australia/Sydney:20250228T193000
DTEND;TZID=Australia/Sydney:20250228T223000
DTSTAMP:20260424T041502
CREATED:20250209T231809Z
LAST-MODIFIED:20250210T011719Z
UID:10005976-1740771000-1740781800@casinorsm.com.au
SUMMARY:KANE MUIR at the Club
DESCRIPTION:Kane Muir earned his stripes from years of busking around the world\, performing a top a homemade suite case drum with His signature one-man-blues-band show.\nIn New York City\, He cut his teeth in the subways almost everyday for a year but as winter took it’s toll he moved south to warmer New Orleans\, He recovered & developed His style in the birthplace of Jazz on street corners with the locals.\nUpon his return to Australia Kane won the “Busking by the beach” competition which was judged by Aria award winning musician Diesel.\nHe has played Woodford Folk Festival\, Folk Rhythm & Life Festival\, Tanglewood festival\, Burning seed & Strawberry Fields.\nHis debut EP “Live at Everland” came out in June 2022.\nKane has toured up & down the east coast many times in his house truck from Melbourne to as far as Cooktown in Queensland playing in too many venues to mention…and he will be bringing his unbelievable talent to the Casino RSM Club on February 28th.\nDon’t miss this free show\, in the lounge from 7.30pm!
URL:https://casinorsm.com.au/event/kane-muir-at-the-club/
LOCATION:Casino RSM
ATTACH;FMTTYPE=image/png:https://casinorsm.com.au/wp-content/uploads/2025/02/FEB-28-KANE-MUIR.png
END:VEVENT
END:VCALENDAR