BEGIN:VCALENDAR
VERSION:2.0
PRODID:-//Casino RSM Club  - ECPv6.15.20//NONSGML v1.0//EN
CALSCALE:GREGORIAN
METHOD:PUBLISH
X-WR-CALNAME:Casino RSM Club 
X-ORIGINAL-URL:https://casinorsm.com.au
X-WR-CALDESC:Events for Casino RSM Club 
REFRESH-INTERVAL;VALUE=DURATION:PT1H
X-Robots-Tag:noindex
X-PUBLISHED-TTL:PT1H
BEGIN:VTIMEZONE
TZID:Australia/Sydney
BEGIN:STANDARD
TZOFFSETFROM:+1100
TZOFFSETTO:+1000
TZNAME:AEST
DTSTART:20240406T160000
END:STANDARD
BEGIN:DAYLIGHT
TZOFFSETFROM:+1000
TZOFFSETTO:+1100
TZNAME:AEDT
DTSTART:20241005T160000
END:DAYLIGHT
BEGIN:STANDARD
TZOFFSETFROM:+1100
TZOFFSETTO:+1000
TZNAME:AEST
DTSTART:20250405T160000
END:STANDARD
BEGIN:DAYLIGHT
TZOFFSETFROM:+1000
TZOFFSETTO:+1100
TZNAME:AEDT
DTSTART:20251004T160000
END:DAYLIGHT
BEGIN:STANDARD
TZOFFSETFROM:+1100
TZOFFSETTO:+1000
TZNAME:AEST
DTSTART:20260404T160000
END:STANDARD
BEGIN:DAYLIGHT
TZOFFSETFROM:+1000
TZOFFSETTO:+1100
TZNAME:AEDT
DTSTART:20261003T160000
END:DAYLIGHT
END:VTIMEZONE
BEGIN:VEVENT
DTSTART;TZID=Australia/Sydney:20250328T193000
DTEND;TZID=Australia/Sydney:20250328T223000
DTSTAMP:20260424T041503
CREATED:20250209T233702Z
LAST-MODIFIED:20250210T024751Z
UID:10005980-1743190200-1743201000@casinorsm.com.au
SUMMARY:MATT BOYLAN-SMITH at the Club
DESCRIPTION:A natural story-teller\, Matt Boylan-Smith left his home town of Bathurst a few years ago to write\, travel the world and tell people his tales.\nMatt has provided the pre-match entertainment for the National Rugby League and gained national radio play on Triple J with his single We Can Be Together. His film clip for his unreleased track ‘Johnny‘ was recently recognised as the winner of the Madrid International film festival in the best shorts competition.\nHis most recent release Somewhere in Soho received national radio play on ABC radio and the film clip for his track 16 Miles Wide gained rotation on Country Music Channel in both Australia and the United States.\nMatt played at the Club back in November 2024 for our Melbourne Cup Ladies event and we can’t wait to welcome him back to the lounge stage on March 28th. Mark your calendars now as trust us\, your ears won’t want to miss this amazing show.
URL:https://casinorsm.com.au/event/matt-boylan-smith-at-the-club/
LOCATION:Casino RSM
ATTACH;FMTTYPE=image/png:https://casinorsm.com.au/wp-content/uploads/2025/02/MARCH-28-MATT-BOYLAN-SMITH-1.png
END:VEVENT
END:VCALENDAR