BEGIN:VCALENDAR
VERSION:2.0
PRODID:-//Casino RSM Club  - ECPv6.15.20//NONSGML v1.0//EN
CALSCALE:GREGORIAN
METHOD:PUBLISH
X-WR-CALNAME:Casino RSM Club 
X-ORIGINAL-URL:https://casinorsm.com.au
X-WR-CALDESC:Events for Casino RSM Club 
REFRESH-INTERVAL;VALUE=DURATION:PT1H
X-Robots-Tag:noindex
X-PUBLISHED-TTL:PT1H
BEGIN:VTIMEZONE
TZID:Australia/Sydney
BEGIN:STANDARD
TZOFFSETFROM:+1100
TZOFFSETTO:+1000
TZNAME:AEST
DTSTART:20240406T160000
END:STANDARD
BEGIN:DAYLIGHT
TZOFFSETFROM:+1000
TZOFFSETTO:+1100
TZNAME:AEDT
DTSTART:20241005T160000
END:DAYLIGHT
BEGIN:STANDARD
TZOFFSETFROM:+1100
TZOFFSETTO:+1000
TZNAME:AEST
DTSTART:20250405T160000
END:STANDARD
BEGIN:DAYLIGHT
TZOFFSETFROM:+1000
TZOFFSETTO:+1100
TZNAME:AEDT
DTSTART:20251004T160000
END:DAYLIGHT
BEGIN:STANDARD
TZOFFSETFROM:+1100
TZOFFSETTO:+1000
TZNAME:AEST
DTSTART:20260404T160000
END:STANDARD
BEGIN:DAYLIGHT
TZOFFSETFROM:+1000
TZOFFSETTO:+1100
TZNAME:AEDT
DTSTART:20261003T160000
END:DAYLIGHT
END:VTIMEZONE
BEGIN:VEVENT
DTSTART;TZID=Australia/Sydney:20250419T193000
DTEND;TZID=Australia/Sydney:20250419T223000
DTSTAMP:20260424T023402
CREATED:20250209T231933Z
LAST-MODIFIED:20250414T003210Z
UID:10005977-1745091000-1745101800@casinorsm.com.au
SUMMARY:TURTLE BOY DUO at the Club
DESCRIPTION:“Turtle boy” are a funky new 100% live duo that have become very popular around the Brisbane and Gold Coast area.\nBringing acoustic guitar looping\, funky beats\, big vocals and plenty of sax appeal\, this duo will be playing all the hits with a twist from 80’s to Oz Rock\, Funk\, Hip Hop\, Pop and Reggae!\nThis free show is live and loud in the lounge from 7.30pm!
URL:https://casinorsm.com.au/event/turtle-boy-duo-at-the-club/
LOCATION:Casino RSM
ATTACH;FMTTYPE=image/jpeg:https://casinorsm.com.au/wp-content/uploads/2025/02/APRIL-19-TURTLE-BOY-scaled.jpg
END:VEVENT
END:VCALENDAR