BEGIN:VCALENDAR
VERSION:2.0
PRODID:-//Casino RSM Club  - ECPv6.15.20//NONSGML v1.0//EN
CALSCALE:GREGORIAN
METHOD:PUBLISH
X-WR-CALNAME:Casino RSM Club 
X-ORIGINAL-URL:https://casinorsm.com.au
X-WR-CALDESC:Events for Casino RSM Club 
REFRESH-INTERVAL;VALUE=DURATION:PT1H
X-Robots-Tag:noindex
X-PUBLISHED-TTL:PT1H
BEGIN:VTIMEZONE
TZID:Australia/Sydney
BEGIN:STANDARD
TZOFFSETFROM:+1100
TZOFFSETTO:+1000
TZNAME:AEST
DTSTART:20240406T160000
END:STANDARD
BEGIN:DAYLIGHT
TZOFFSETFROM:+1000
TZOFFSETTO:+1100
TZNAME:AEDT
DTSTART:20241005T160000
END:DAYLIGHT
BEGIN:STANDARD
TZOFFSETFROM:+1100
TZOFFSETTO:+1000
TZNAME:AEST
DTSTART:20250405T160000
END:STANDARD
BEGIN:DAYLIGHT
TZOFFSETFROM:+1000
TZOFFSETTO:+1100
TZNAME:AEDT
DTSTART:20251004T160000
END:DAYLIGHT
BEGIN:STANDARD
TZOFFSETFROM:+1100
TZOFFSETTO:+1000
TZNAME:AEST
DTSTART:20260404T160000
END:STANDARD
BEGIN:DAYLIGHT
TZOFFSETFROM:+1000
TZOFFSETTO:+1100
TZNAME:AEDT
DTSTART:20261003T160000
END:DAYLIGHT
END:VTIMEZONE
BEGIN:VEVENT
DTSTART;TZID=Australia/Sydney:20250511T113000
DTEND;TZID=Australia/Sydney:20250511T143000
DTSTAMP:20260424T003135
CREATED:20250411T051220Z
LAST-MODIFIED:20250411T051220Z
UID:10005996-1746963000-1746973800@casinorsm.com.au
SUMMARY:MAFS Mothers Day Luncheon at Casino RSM Club
DESCRIPTION:We are SO EXCITED to announce our MAFS Mothers Day Luncheon!!\nJoin us at the Club for a 2 course lunch in our newly renovated function rooms\, with special guests Billy and Jeff from the MAFS 2025 cast! Don’t miss this unique opportunity to meet the boys\, and treat mum to a Mothers Day she won’t forget!\nTickets are NOW LIVE!
URL:https://casinorsm.com.au/event/mafs-mothers-day-luncheon-at-casino-rsm-club/
ATTACH;FMTTYPE=image/jpeg:https://casinorsm.com.au/wp-content/uploads/2025/04/MAFS-MOTHERS-DAY-LUNCHEON-FB-EVENT.jpg
END:VEVENT
END:VCALENDAR