BEGIN:VCALENDAR
VERSION:2.0
PRODID:-//Casino RSM Club  - ECPv6.15.20//NONSGML v1.0//EN
CALSCALE:GREGORIAN
METHOD:PUBLISH
X-ORIGINAL-URL:https://casinorsm.com.au
X-WR-CALDESC:Events for Casino RSM Club 
REFRESH-INTERVAL;VALUE=DURATION:PT1H
X-Robots-Tag:noindex
X-PUBLISHED-TTL:PT1H
BEGIN:VTIMEZONE
TZID:Australia/Sydney
BEGIN:STANDARD
TZOFFSETFROM:+1100
TZOFFSETTO:+1000
TZNAME:AEST
DTSTART:20240406T160000
END:STANDARD
BEGIN:DAYLIGHT
TZOFFSETFROM:+1000
TZOFFSETTO:+1100
TZNAME:AEDT
DTSTART:20241005T160000
END:DAYLIGHT
BEGIN:STANDARD
TZOFFSETFROM:+1100
TZOFFSETTO:+1000
TZNAME:AEST
DTSTART:20250405T160000
END:STANDARD
BEGIN:DAYLIGHT
TZOFFSETFROM:+1000
TZOFFSETTO:+1100
TZNAME:AEDT
DTSTART:20251004T160000
END:DAYLIGHT
BEGIN:STANDARD
TZOFFSETFROM:+1100
TZOFFSETTO:+1000
TZNAME:AEST
DTSTART:20260404T160000
END:STANDARD
BEGIN:DAYLIGHT
TZOFFSETFROM:+1000
TZOFFSETTO:+1100
TZNAME:AEDT
DTSTART:20261003T160000
END:DAYLIGHT
END:VTIMEZONE
BEGIN:VEVENT
DTSTART;TZID=Australia/Sydney:20250516T193000
DTEND;TZID=Australia/Sydney:20250516T220000
DTSTAMP:20260424T003412
CREATED:20250325T213847Z
LAST-MODIFIED:20250325T214422Z
UID:10005995-1747423800-1747432800@casinorsm.com.au
SUMMARY:Whispering Jack - Special Tribute to the Music of John Farnham
DESCRIPTION:Mike Vee is ‘The Voice’ behind the Australian Whispering Jack show\, a tribute to the music of John Farnham\, which has toured Australia and internationally for almost two decades.\nJohn Farnham himself endorsed Mike’s tribute\, saying he was honoured to have a show dedicated to his music.\n\nMike’s 2025 show features a new playlist and seven-piece band. It promises to be an uplifting evening of entertainment\, jam-packed with Farnham’s greatest hits including Age of Reason\, Pressure Down\, A Touch of Paradise and\, of course\, You’re the Voice\, from Farnham’s legendary 1986 album\, Whispering Jack.\n\nThe new show also looks at the history of John as never seen before in a live show.\n\nIf you love the music of John Farnham\, sing along\, reminisce and join this celebration of some of the greatest songs ever recorded by an Australian artist.
URL:https://casinorsm.com.au/event/whispering-jack-special-tribute-to-the-music-of-john-farnham/
ATTACH;FMTTYPE=image/jpeg:https://casinorsm.com.au/wp-content/uploads/2025/03/WHISPERING-JACK-FB-EVENT-SIZE-scaled.jpg
END:VEVENT
END:VCALENDAR