BEGIN:VCALENDAR
VERSION:2.0
PRODID:-//Casino RSM Club  - ECPv6.15.20//NONSGML v1.0//EN
CALSCALE:GREGORIAN
METHOD:PUBLISH
X-WR-CALNAME:Casino RSM Club 
X-ORIGINAL-URL:https://casinorsm.com.au
X-WR-CALDESC:Events for Casino RSM Club 
REFRESH-INTERVAL;VALUE=DURATION:PT1H
X-Robots-Tag:noindex
X-PUBLISHED-TTL:PT1H
BEGIN:VTIMEZONE
TZID:Australia/Sydney
BEGIN:STANDARD
TZOFFSETFROM:+1100
TZOFFSETTO:+1000
TZNAME:AEST
DTSTART:20240406T160000
END:STANDARD
BEGIN:DAYLIGHT
TZOFFSETFROM:+1000
TZOFFSETTO:+1100
TZNAME:AEDT
DTSTART:20241005T160000
END:DAYLIGHT
BEGIN:STANDARD
TZOFFSETFROM:+1100
TZOFFSETTO:+1000
TZNAME:AEST
DTSTART:20250405T160000
END:STANDARD
BEGIN:DAYLIGHT
TZOFFSETFROM:+1000
TZOFFSETTO:+1100
TZNAME:AEDT
DTSTART:20251004T160000
END:DAYLIGHT
BEGIN:STANDARD
TZOFFSETFROM:+1100
TZOFFSETTO:+1000
TZNAME:AEST
DTSTART:20260404T160000
END:STANDARD
BEGIN:DAYLIGHT
TZOFFSETFROM:+1000
TZOFFSETTO:+1100
TZNAME:AEDT
DTSTART:20261003T160000
END:DAYLIGHT
END:VTIMEZONE
BEGIN:VEVENT
DTSTART;TZID=Australia/Sydney:20250530T193000
DTEND;TZID=Australia/Sydney:20250530T223000
DTSTAMP:20260423T223330
CREATED:20250210T000751Z
LAST-MODIFIED:20250210T034903Z
UID:10005987-1748633400-1748644200@casinorsm.com.au
SUMMARY:THE APPOINTMENTS at the Club
DESCRIPTION:A dynamic fusion of indie\, psychedelic rock\, and world beat\, The Appointments are equal parts The Wailers\, My Morning Jacket\, the Police and Sublime.\nTwo brothers and founding members of The Appointments\, Rhys and Eli Love grew up in a music loving household\, with both parents exposing them to a wide pallet of music genres. There is a seemingly telepathic music connection when they play music together. Since the band’s inception\, Duncan Brown (Percussion\, Keys)\, Kurt Speirs (Bass) and Aidan Liddle (Guitar) have joined the collective\, adding influencing the band’s jam sessions that are carved into tracks.\nInstinctively independent\, the band’s tracks are self recorded and produced by their front man\, and propelled by a live band at home playing festival stages\, supporting Australian artists across the genre spectrum\, and headline their own tours along the east coast.\nWe are so excited to welcome The Appointments to the Casino RSM stage on Friday May 30th at 8pm.
URL:https://casinorsm.com.au/event/the-appointments-at-the-club/
LOCATION:Casino RSM
ATTACH;FMTTYPE=image/png:https://casinorsm.com.au/wp-content/uploads/2025/02/MAY-30-THE-APPOINTMENTS.png
END:VEVENT
BEGIN:VEVENT
DTSTART;TZID=Australia/Sydney:20250530T210000
DTEND;TZID=Australia/Sydney:20250531T010000
DTSTAMP:20260423T223330
CREATED:20250519T062704Z
LAST-MODIFIED:20250519T064054Z
UID:10006001-1748638800-1748653200@casinorsm.com.au
SUMMARY:HOT PINK HOEDOWN Post Races Party
DESCRIPTION:Saddle up for the Hot Pink Hoedown! \nA wild night of table dancing comps\, hot pink prizes\, and even hotter Coyote Girls\, all soundtracked by DJ Kayty Banks. \nFriday May 30th | 9pm | Tickets FREE via the link! \nThink glitter\, boots\, bad behaviour… and a whole lotta yeehaw.
URL:https://casinorsm.com.au/event/3880/
LOCATION:Casino RSM
ATTACH;FMTTYPE=image/png:https://casinorsm.com.au/wp-content/uploads/2025/05/HOT-PINK-HOEDOWN-POST-RACES-FB-EVENT-1.png
END:VEVENT
END:VCALENDAR