BEGIN:VCALENDAR
VERSION:2.0
PRODID:-//Casino RSM Club  - ECPv6.15.20//NONSGML v1.0//EN
CALSCALE:GREGORIAN
METHOD:PUBLISH
X-ORIGINAL-URL:https://casinorsm.com.au
X-WR-CALDESC:Events for Casino RSM Club 
REFRESH-INTERVAL;VALUE=DURATION:PT1H
X-Robots-Tag:noindex
X-PUBLISHED-TTL:PT1H
BEGIN:VTIMEZONE
TZID:Australia/Sydney
BEGIN:STANDARD
TZOFFSETFROM:+1100
TZOFFSETTO:+1000
TZNAME:AEST
DTSTART:20240406T160000
END:STANDARD
BEGIN:DAYLIGHT
TZOFFSETFROM:+1000
TZOFFSETTO:+1100
TZNAME:AEDT
DTSTART:20241005T160000
END:DAYLIGHT
BEGIN:STANDARD
TZOFFSETFROM:+1100
TZOFFSETTO:+1000
TZNAME:AEST
DTSTART:20250405T160000
END:STANDARD
BEGIN:DAYLIGHT
TZOFFSETFROM:+1000
TZOFFSETTO:+1100
TZNAME:AEDT
DTSTART:20251004T160000
END:DAYLIGHT
BEGIN:STANDARD
TZOFFSETFROM:+1100
TZOFFSETTO:+1000
TZNAME:AEST
DTSTART:20260404T160000
END:STANDARD
BEGIN:DAYLIGHT
TZOFFSETFROM:+1000
TZOFFSETTO:+1100
TZNAME:AEDT
DTSTART:20261003T160000
END:DAYLIGHT
END:VTIMEZONE
BEGIN:VEVENT
DTSTART;TZID=Australia/Sydney:20250621T193000
DTEND;TZID=Australia/Sydney:20250621T223000
DTSTAMP:20260423T223609
CREATED:20250210T001321Z
LAST-MODIFIED:20250211T002210Z
UID:10005991-1750534200-1750545000@casinorsm.com.au
SUMMARY:GLEN PRICE at the Club
DESCRIPTION:Glen Price is an accomplished Singer/Guitarist know for his ability to seamlessly navigate through multiple Genre’s of music.\n\nIn recent times\, Glen has captured the hearts of music lovers from all walks of life with music that transcends genres resonating with fans from rock\, country and everything in between.\n\nAs a rising star in the music industry\, Glen continues to grow and explore as an artist. We hosted Glen here at the Club in January and can’t wait to welcome him back as part of our full line up in June.
URL:https://casinorsm.com.au/event/glen-price-at-the-club/
LOCATION:Casino RSM
ATTACH;FMTTYPE=image/png:https://casinorsm.com.au/wp-content/uploads/2025/02/JUNE-21-GLEN-PRICE.png
END:VEVENT
END:VCALENDAR