BEGIN:VCALENDAR
VERSION:2.0
PRODID:-//Casino RSM Club  - ECPv6.15.20//NONSGML v1.0//EN
CALSCALE:GREGORIAN
METHOD:PUBLISH
X-ORIGINAL-URL:https://casinorsm.com.au
X-WR-CALDESC:Events for Casino RSM Club 
REFRESH-INTERVAL;VALUE=DURATION:PT1H
X-Robots-Tag:noindex
X-PUBLISHED-TTL:PT1H
BEGIN:VTIMEZONE
TZID:Australia/Sydney
BEGIN:STANDARD
TZOFFSETFROM:+1100
TZOFFSETTO:+1000
TZNAME:AEST
DTSTART:20240406T160000
END:STANDARD
BEGIN:DAYLIGHT
TZOFFSETFROM:+1000
TZOFFSETTO:+1100
TZNAME:AEDT
DTSTART:20241005T160000
END:DAYLIGHT
BEGIN:STANDARD
TZOFFSETFROM:+1100
TZOFFSETTO:+1000
TZNAME:AEST
DTSTART:20250405T160000
END:STANDARD
BEGIN:DAYLIGHT
TZOFFSETFROM:+1000
TZOFFSETTO:+1100
TZNAME:AEDT
DTSTART:20251004T160000
END:DAYLIGHT
BEGIN:STANDARD
TZOFFSETFROM:+1100
TZOFFSETTO:+1000
TZNAME:AEST
DTSTART:20260404T160000
END:STANDARD
BEGIN:DAYLIGHT
TZOFFSETFROM:+1000
TZOFFSETTO:+1100
TZNAME:AEDT
DTSTART:20261003T160000
END:DAYLIGHT
END:VTIMEZONE
BEGIN:VEVENT
DTSTART;TZID=Australia/Sydney:20250704T190000
DTEND;TZID=Australia/Sydney:20250704T220000
DTSTAMP:20260423T204537
CREATED:20250626T044226Z
LAST-MODIFIED:20250626T044226Z
UID:10006008-1751655600-1751666400@casinorsm.com.au
SUMMARY:MAGIC MEN TAKEOVER at the Club
DESCRIPTION: ONE NIGHT ONLY: MAGIC MEN AUSTRALIA Casino\, NSW – get ready for Australia’s hottest and most electrifying male revue show!For one unforgettable night\, MAGIC MEN AUSTRALIA is bringing their ALL-STAR CAST of stunning hunks to town. These sculpted performers with irresistible charm will set the stage on fire and leave you absolutely breathless!———————————————- SPECIAL OFFER The first 20 PREMIUM/VIP ticket purchasers will secure front-row seats for an up-close and personal experience with the Magic Men.———————————————- EVENT SCHEDULE7:00 PM – Doors Open (Meet & Greet)8:00 PM – Show Commences10:00 PM – Show Concludes———————————————– TICKETSRegular Patron (Non-Reserved): $50Deluxe Priority: $75Premium VIP: $95———————————————- IMPORTANT INFORMATIONArrival: Arrive 30 minutes early to check in and avoid long lines.Age Restriction: This is an 18+ event.Bar: Alcohol will be available for purchase\, including beers\, champagne\, spirits\, and mixers.Lineup: The lineup is subject to change\, and Magic Men reserves the right to adjust the touring roster based on availability.Production Effects: Please note\, the show may include flashing lights and strobe effects.\n GRAB YOUR GIRLS for the ultimate Girls’ Night Out! Expect a night packed with laughter\, fun\, and irresistible man candy. Let the Magic Men treat you like queens with an evening of unforgettable entertainment!
URL:https://casinorsm.com.au/event/magic-men-takeover-at-the-club/
ATTACH;FMTTYPE=image/png:https://casinorsm.com.au/wp-content/uploads/2025/06/4TH-JUL-CASINO-e1750912926984.png
END:VEVENT
END:VCALENDAR