BEGIN:VCALENDAR
VERSION:2.0
PRODID:-//Casino RSM Club  - ECPv6.15.20//NONSGML v1.0//EN
CALSCALE:GREGORIAN
METHOD:PUBLISH
X-ORIGINAL-URL:https://casinorsm.com.au
X-WR-CALDESC:Events for Casino RSM Club 
REFRESH-INTERVAL;VALUE=DURATION:PT1H
X-Robots-Tag:noindex
X-PUBLISHED-TTL:PT1H
BEGIN:VTIMEZONE
TZID:Australia/Sydney
BEGIN:STANDARD
TZOFFSETFROM:+1100
TZOFFSETTO:+1000
TZNAME:AEST
DTSTART:20240406T160000
END:STANDARD
BEGIN:DAYLIGHT
TZOFFSETFROM:+1000
TZOFFSETTO:+1100
TZNAME:AEDT
DTSTART:20241005T160000
END:DAYLIGHT
BEGIN:STANDARD
TZOFFSETFROM:+1100
TZOFFSETTO:+1000
TZNAME:AEST
DTSTART:20250405T160000
END:STANDARD
BEGIN:DAYLIGHT
TZOFFSETFROM:+1000
TZOFFSETTO:+1100
TZNAME:AEDT
DTSTART:20251004T160000
END:DAYLIGHT
BEGIN:STANDARD
TZOFFSETFROM:+1100
TZOFFSETTO:+1000
TZNAME:AEST
DTSTART:20260404T160000
END:STANDARD
BEGIN:DAYLIGHT
TZOFFSETFROM:+1000
TZOFFSETTO:+1100
TZNAME:AEDT
DTSTART:20261003T160000
END:DAYLIGHT
END:VTIMEZONE
BEGIN:VEVENT
DTSTART;TZID=Australia/Sydney:20250906T183000
DTEND;TZID=Australia/Sydney:20250906T213000
DTSTAMP:20260423T171102
CREATED:20250716T033656Z
LAST-MODIFIED:20250716T033656Z
UID:10006010-1757183400-1757194200@casinorsm.com.au
SUMMARY:DAN GRACE at the Club
DESCRIPTION:Dan Grace — the talented one-man band from Northern Rivers NSW — is bringing his electrifying live show to Casino RSM Club. With over 20 years of experience from Queensland to Tasmania\, he delivers 100% live drums\, guitar\, and vocals. Don’t miss this high-energy solo performance that’s sure to light up the dance floor!
URL:https://casinorsm.com.au/event/dan-grace-at-the-club/
ATTACH;FMTTYPE=image/jpeg:https://casinorsm.com.au/wp-content/uploads/2025/07/AUGUST-23-DAN-GRACE-scaled.jpg
END:VEVENT
END:VCALENDAR