BEGIN:VCALENDAR
VERSION:2.0
PRODID:-//Casino RSM Club  - ECPv6.15.20//NONSGML v1.0//EN
CALSCALE:GREGORIAN
METHOD:PUBLISH
X-ORIGINAL-URL:https://casinorsm.com.au
X-WR-CALDESC:Events for Casino RSM Club 
REFRESH-INTERVAL;VALUE=DURATION:PT1H
X-Robots-Tag:noindex
X-PUBLISHED-TTL:PT1H
BEGIN:VTIMEZONE
TZID:Australia/Sydney
BEGIN:STANDARD
TZOFFSETFROM:+1100
TZOFFSETTO:+1000
TZNAME:AEST
DTSTART:20240406T160000
END:STANDARD
BEGIN:DAYLIGHT
TZOFFSETFROM:+1000
TZOFFSETTO:+1100
TZNAME:AEDT
DTSTART:20241005T160000
END:DAYLIGHT
BEGIN:STANDARD
TZOFFSETFROM:+1100
TZOFFSETTO:+1000
TZNAME:AEST
DTSTART:20250405T160000
END:STANDARD
BEGIN:DAYLIGHT
TZOFFSETFROM:+1000
TZOFFSETTO:+1100
TZNAME:AEDT
DTSTART:20251004T160000
END:DAYLIGHT
BEGIN:STANDARD
TZOFFSETFROM:+1100
TZOFFSETTO:+1000
TZNAME:AEST
DTSTART:20260404T160000
END:STANDARD
BEGIN:DAYLIGHT
TZOFFSETFROM:+1000
TZOFFSETTO:+1100
TZNAME:AEDT
DTSTART:20261003T160000
END:DAYLIGHT
END:VTIMEZONE
BEGIN:VEVENT
DTSTART;TZID=Australia/Sydney:20250920T183000
DTEND;TZID=Australia/Sydney:20250920T213000
DTSTAMP:20260423T171058
CREATED:20250716T034409Z
LAST-MODIFIED:20250716T034409Z
UID:10006011-1758393000-1758403800@casinorsm.com.au
SUMMARY:MISH SONGSMITH at the Club
DESCRIPTION:Mish Songsmith is an award-winning singer-songwriter and multi-instrumentalist based in the Northern Rivers region. Her music—steeped in jazz\, blues\, and gospel—is described as passionate\, poetic\, uplifting\, and deeply inspirational\, reflecting her life experiences and the healing power of her artistry. \nAs a standout performer\, Mish and her band have graced prominent regional events like the Lismore Lantern Festival\, where they delivered memorable sets of soulful and mature musical expression. She also launched her CD in venues around Mullumbimby and Gollan\, highlighting her strong local following.
URL:https://casinorsm.com.au/event/mish-songsmith-at-the-club/
ATTACH;FMTTYPE=image/jpeg:https://casinorsm.com.au/wp-content/uploads/2025/07/SEPT-20-MISH-scaled.jpg
END:VEVENT
END:VCALENDAR