BEGIN:VCALENDAR
VERSION:2.0
PRODID:-//Casino RSM Club  - ECPv6.15.20//NONSGML v1.0//EN
CALSCALE:GREGORIAN
METHOD:PUBLISH
X-ORIGINAL-URL:https://casinorsm.com.au
X-WR-CALDESC:Events for Casino RSM Club 
REFRESH-INTERVAL;VALUE=DURATION:PT1H
X-Robots-Tag:noindex
X-PUBLISHED-TTL:PT1H
BEGIN:VTIMEZONE
TZID:Australia/Sydney
BEGIN:STANDARD
TZOFFSETFROM:+1100
TZOFFSETTO:+1000
TZNAME:AEST
DTSTART:20240406T160000
END:STANDARD
BEGIN:DAYLIGHT
TZOFFSETFROM:+1000
TZOFFSETTO:+1100
TZNAME:AEDT
DTSTART:20241005T160000
END:DAYLIGHT
BEGIN:STANDARD
TZOFFSETFROM:+1100
TZOFFSETTO:+1000
TZNAME:AEST
DTSTART:20250405T160000
END:STANDARD
BEGIN:DAYLIGHT
TZOFFSETFROM:+1000
TZOFFSETTO:+1100
TZNAME:AEDT
DTSTART:20251004T160000
END:DAYLIGHT
BEGIN:STANDARD
TZOFFSETFROM:+1100
TZOFFSETTO:+1000
TZNAME:AEST
DTSTART:20260404T160000
END:STANDARD
BEGIN:DAYLIGHT
TZOFFSETFROM:+1000
TZOFFSETTO:+1100
TZNAME:AEDT
DTSTART:20261003T160000
END:DAYLIGHT
END:VTIMEZONE
BEGIN:VEVENT
DTSTART;TZID=Australia/Sydney:20250927T183000
DTEND;TZID=Australia/Sydney:20250927T213000
DTSTAMP:20260423T171124
CREATED:20250716T035009Z
LAST-MODIFIED:20250716T035009Z
UID:10006012-1758997800-1759008600@casinorsm.com.au
SUMMARY:PENNY'S GROOVE at the Club
DESCRIPTION:Penny’s Groove is a dynamic Australian music duo featuring vocalist Penny Wilson and guitarist Roo Mackerras. Known for their engaging performances of classic hits\, they aim to create an energetic and danceable atmosphere that encourages audience participation. Their repertoire includes popular songs delivered with a style reminiscent of the original artists\, ensuring a nostalgic yet fresh experience for listeners.
URL:https://casinorsm.com.au/event/pennys-groove-at-the-club/
ATTACH;FMTTYPE=image/jpeg:https://casinorsm.com.au/wp-content/uploads/2025/07/SEPT-27-PENNYS-GROOVE-scaled.jpg
END:VEVENT
END:VCALENDAR