BEGIN:VCALENDAR
VERSION:2.0
PRODID:-//Casino RSM Club  - ECPv6.15.20//NONSGML v1.0//EN
CALSCALE:GREGORIAN
METHOD:PUBLISH
X-WR-CALNAME:Casino RSM Club 
X-ORIGINAL-URL:https://casinorsm.com.au
X-WR-CALDESC:Events for Casino RSM Club 
REFRESH-INTERVAL;VALUE=DURATION:PT1H
X-Robots-Tag:noindex
X-PUBLISHED-TTL:PT1H
BEGIN:VTIMEZONE
TZID:Australia/Sydney
BEGIN:STANDARD
TZOFFSETFROM:+1100
TZOFFSETTO:+1000
TZNAME:AEST
DTSTART:20250405T160000
END:STANDARD
BEGIN:DAYLIGHT
TZOFFSETFROM:+1000
TZOFFSETTO:+1100
TZNAME:AEDT
DTSTART:20251004T160000
END:DAYLIGHT
BEGIN:STANDARD
TZOFFSETFROM:+1100
TZOFFSETTO:+1000
TZNAME:AEST
DTSTART:20260404T160000
END:STANDARD
BEGIN:DAYLIGHT
TZOFFSETFROM:+1000
TZOFFSETTO:+1100
TZNAME:AEDT
DTSTART:20261003T160000
END:DAYLIGHT
BEGIN:STANDARD
TZOFFSETFROM:+1100
TZOFFSETTO:+1000
TZNAME:AEST
DTSTART:20270403T160000
END:STANDARD
BEGIN:DAYLIGHT
TZOFFSETFROM:+1000
TZOFFSETTO:+1100
TZNAME:AEDT
DTSTART:20271002T160000
END:DAYLIGHT
END:VTIMEZONE
BEGIN:VEVENT
DTSTART;TZID=Australia/Sydney:20260110T183000
DTEND;TZID=Australia/Sydney:20260110T213000
DTSTAMP:20260423T094730
CREATED:20260109T032743Z
LAST-MODIFIED:20260109T032743Z
UID:10006302-1768069800-1768080600@casinorsm.com.au
SUMMARY:JASON SPARE at the Club
DESCRIPTION:Get ready for an unforgettable night of live entertainment\, Jason Spare is coming to the Casino RSM Club! \nJoin us for great tunes\, good vibes and a fantastic atmosphere as Jason takes the stage with all your favourite songs. Whether you’re catching up with mates\, enjoying dinner\, or just kicking back with a drink\, this is the perfect way to start your weekend! \nBring your friends\, bring your family…everyone’s welcome! Let’s make it a night to remember down at the club.
URL:https://casinorsm.com.au/event/jason-spare-at-the-club/
LOCATION:Casino RSM
ATTACH;FMTTYPE=image/jpeg:https://casinorsm.com.au/wp-content/uploads/2026/01/1.-JAN-10-JASON-SPARE-scaled.jpg
END:VEVENT
END:VCALENDAR