BEGIN:VCALENDAR
VERSION:2.0
PRODID:-//Casino RSM Club  - ECPv6.15.20//NONSGML v1.0//EN
CALSCALE:GREGORIAN
METHOD:PUBLISH
X-WR-CALNAME:Casino RSM Club 
X-ORIGINAL-URL:https://casinorsm.com.au
X-WR-CALDESC:Events for Casino RSM Club 
REFRESH-INTERVAL;VALUE=DURATION:PT1H
X-Robots-Tag:noindex
X-PUBLISHED-TTL:PT1H
BEGIN:VTIMEZONE
TZID:Australia/Sydney
BEGIN:STANDARD
TZOFFSETFROM:+1100
TZOFFSETTO:+1000
TZNAME:AEST
DTSTART:20250405T160000
END:STANDARD
BEGIN:DAYLIGHT
TZOFFSETFROM:+1000
TZOFFSETTO:+1100
TZNAME:AEDT
DTSTART:20251004T160000
END:DAYLIGHT
BEGIN:STANDARD
TZOFFSETFROM:+1100
TZOFFSETTO:+1000
TZNAME:AEST
DTSTART:20260404T160000
END:STANDARD
BEGIN:DAYLIGHT
TZOFFSETFROM:+1000
TZOFFSETTO:+1100
TZNAME:AEDT
DTSTART:20261003T160000
END:DAYLIGHT
BEGIN:STANDARD
TZOFFSETFROM:+1100
TZOFFSETTO:+1000
TZNAME:AEST
DTSTART:20270403T160000
END:STANDARD
BEGIN:DAYLIGHT
TZOFFSETFROM:+1000
TZOFFSETTO:+1100
TZNAME:AEDT
DTSTART:20271002T160000
END:DAYLIGHT
END:VTIMEZONE
BEGIN:VEVENT
DTSTART;TZID=Australia/Sydney:20260425T183000
DTEND;TZID=Australia/Sydney:20260425T213000
DTSTAMP:20260425T233740
CREATED:20260111T224751Z
LAST-MODIFIED:20260111T224751Z
UID:10006316-1777141800-1777152600@casinorsm.com.au
SUMMARY:LUKE YEAMAN at the Club
DESCRIPTION:We’re excited to welcome Luke Yeaman to the Casino RSM Club for a night of quality live music and laid-back vibes. \nKnown for his smooth vocals and relaxed acoustic style\, Luke delivers a great mix of classics\, modern favourites and easy-listening tunes that are perfect for a night out at the club. Whether you’re settling in for dinner\, enjoying a few drinks\, or catching up with friends\, Luke’s live set is the ideal soundtrack to your night. \nNo tickets needed…just come along\, grab a drink\, and enjoy live music done right!
URL:https://casinorsm.com.au/event/luke-yeaman-at-the-club-2/
LOCATION:Casino RSM
ATTACH;FMTTYPE=image/jpeg:https://casinorsm.com.au/wp-content/uploads/2026/01/15.-APRIL-25-LUKE-YEAMAN-scaled.jpg
END:VEVENT
END:VCALENDAR