BEGIN:VCALENDAR
VERSION:2.0
PRODID:-//Casino RSM Club  - ECPv6.15.20//NONSGML v1.0//EN
CALSCALE:GREGORIAN
METHOD:PUBLISH
X-ORIGINAL-URL:https://casinorsm.com.au
X-WR-CALDESC:Events for Casino RSM Club 
REFRESH-INTERVAL;VALUE=DURATION:PT1H
X-Robots-Tag:noindex
X-PUBLISHED-TTL:PT1H
BEGIN:VTIMEZONE
TZID:Australia/Sydney
BEGIN:STANDARD
TZOFFSETFROM:+1100
TZOFFSETTO:+1000
TZNAME:AEST
DTSTART:20240406T160000
END:STANDARD
BEGIN:DAYLIGHT
TZOFFSETFROM:+1000
TZOFFSETTO:+1100
TZNAME:AEDT
DTSTART:20241005T160000
END:DAYLIGHT
BEGIN:STANDARD
TZOFFSETFROM:+1100
TZOFFSETTO:+1000
TZNAME:AEST
DTSTART:20250405T160000
END:STANDARD
BEGIN:DAYLIGHT
TZOFFSETFROM:+1000
TZOFFSETTO:+1100
TZNAME:AEDT
DTSTART:20251004T160000
END:DAYLIGHT
BEGIN:STANDARD
TZOFFSETFROM:+1100
TZOFFSETTO:+1000
TZNAME:AEST
DTSTART:20260404T160000
END:STANDARD
BEGIN:DAYLIGHT
TZOFFSETFROM:+1000
TZOFFSETTO:+1100
TZNAME:AEDT
DTSTART:20261003T160000
END:DAYLIGHT
END:VTIMEZONE
BEGIN:VEVENT
DTSTART;TZID=Australia/Sydney:20250404T193000
DTEND;TZID=Australia/Sydney:20250404T223000
DTSTAMP:20260424T005158
CREATED:20250209T233914Z
LAST-MODIFIED:20250325T020709Z
UID:10005981-1743795000-1743805800@casinorsm.com.au
SUMMARY:JB'S BLUES BREAKERS at the Club
DESCRIPTION:JBs Blues Breakers have been busy creating a buzz all around the Byron Shire as a red hot new blues and rock n roll band who have already built a strong following amongst young and old.\nBorn out of a love for 50’s/60’s country\, blues and rock n roll\, featuring a group of seasoned local players. This rockin’ band will have you listening and bopping along to a variety of grooves guaranteed to fit all the moods!
URL:https://casinorsm.com.au/event/jbs-blues-breakers-jack-raymond-at-the-club/
LOCATION:Casino RSM
ATTACH;FMTTYPE=image/jpeg:https://casinorsm.com.au/wp-content/uploads/2025/02/APRIL-4-JB-JACK-scaled.jpg
END:VEVENT
BEGIN:VEVENT
DTSTART;TZID=Australia/Sydney:20250405T170000
DTEND;TZID=Australia/Sydney:20250405T203000
DTSTAMP:20260424T005158
CREATED:20250325T021217Z
LAST-MODIFIED:20250325T031945Z
UID:10005994-1743872400-1743885000@casinorsm.com.au
SUMMARY:JACK RAYMOND at the Club
DESCRIPTION:Raw\, bluesy and smokey vocals\, alongside raspy cords is the distinctive sound of Jack Raymond. Jack grew up in Victoria\, but now calls Noosa on the Sunshine Coast home. Following a successful tour across Queensland\, New South Wales and Victoria\, he released his debut album “The Long Story Short” in 2024 with a catalogue of catchy and upbeat musical tales.\nRaymond has played slots at festivals including Kiama Blues Festival\, The Gympie Muster\, Agnes Blues n Roots and Sofar Sounds. He was named a finalist in 2023 in the Buskers By the Lake busking comp. He has supported touring artists including Riley Pearce\, Hatz Fitz & Cara\, Sunday Lemonade\, Flynn Gurry\, Darren Hanlon\, Alex Koseko\, Ben Smith Band\, Fat Picnic\, Those Folk and The Long Johns.\nThis live\, and free show is not to be missed! Join us at Casino RSM this Valentines day for a voice you’ve never heard before but you’ll feel like you’ve known it your whole life.
URL:https://casinorsm.com.au/event/jack-raymond-at-the-club-2/
LOCATION:Casino RSM
ATTACH;FMTTYPE=image/jpeg:https://casinorsm.com.au/wp-content/uploads/2025/03/FEB-14-JACK-RAYMOND-1-scaled.jpg
END:VEVENT
BEGIN:VEVENT
DTSTART;TZID=Australia/Sydney:20250412T193000
DTEND;TZID=Australia/Sydney:20250412T223000
DTSTAMP:20260424T005158
CREATED:20250209T234234Z
LAST-MODIFIED:20250210T034152Z
UID:10005982-1744486200-1744497000@casinorsm.com.au
SUMMARY:BILLY GUDGEON The Soundboard Sessions at the Club
DESCRIPTION:We’ve all heard of the Billy Gudgeon band\, and hot off the press for 2025 is Billy’s brand new project…the Soundboard Sessions.\nThe Soundboard Sessions is a completely different kind of show featuring a whole bunch of original\, and unreleased music\, plus a sprinkle of cover songs he wouldn’t normally play with the band.\nBilly is excited to be able to share some stories behind the songs\, and from the live shows with you all.\nIt will be a completely new vibe… an interactive\, chilled\, acoustic show with Billy’s good mate and guitarist\, Shannon Beaumont sharing the stage with him!\nWe feel privileged to be hosting the first ever Soundboard Session at Casino RSM Club\, so chuck it in your calendar as Billy would love to see as many of you there as possible!
URL:https://casinorsm.com.au/event/billy-gudgeon-the-soundboard-sessions-at-the-club/
LOCATION:Casino RSM
ATTACH;FMTTYPE=image/png:https://casinorsm.com.au/wp-content/uploads/2025/02/APRIL-12-BILLY-GUDGEON.png
END:VEVENT
BEGIN:VEVENT
DTSTART;TZID=Australia/Sydney:20250415T170000
DTEND;TZID=Australia/Sydney:20250415T190000
DTSTAMP:20260424T005158
CREATED:20250414T032643Z
LAST-MODIFIED:20250414T032814Z
UID:10006000-1744736400-1744743600@casinorsm.com.au
SUMMARY:GIANT EASTER RAFFLE at the Club
DESCRIPTION:Tickets on sale from 5pm // Drawn from 6:30pm // Mr Brad for the kids from 5pm-7pm
URL:https://casinorsm.com.au/event/giant-easter-raffle-at-the-club/
ATTACH;FMTTYPE=image/jpeg:https://casinorsm.com.au/wp-content/uploads/2025/04/EASTER-RAFFLE-FB-EVENT-HEADER-TILE-01-scaled.jpg
END:VEVENT
BEGIN:VEVENT
DTSTART;TZID=Australia/Sydney:20250419T193000
DTEND;TZID=Australia/Sydney:20250419T223000
DTSTAMP:20260424T005158
CREATED:20250209T231933Z
LAST-MODIFIED:20250414T003210Z
UID:10005977-1745091000-1745101800@casinorsm.com.au
SUMMARY:TURTLE BOY DUO at the Club
DESCRIPTION:“Turtle boy” are a funky new 100% live duo that have become very popular around the Brisbane and Gold Coast area.\nBringing acoustic guitar looping\, funky beats\, big vocals and plenty of sax appeal\, this duo will be playing all the hits with a twist from 80’s to Oz Rock\, Funk\, Hip Hop\, Pop and Reggae!\nThis free show is live and loud in the lounge from 7.30pm!
URL:https://casinorsm.com.au/event/turtle-boy-duo-at-the-club/
LOCATION:Casino RSM
ATTACH;FMTTYPE=image/jpeg:https://casinorsm.com.au/wp-content/uploads/2025/02/APRIL-19-TURTLE-BOY-scaled.jpg
END:VEVENT
BEGIN:VEVENT
DTSTART;TZID=Australia/Sydney:20250426T080000
DTEND;TZID=Australia/Sydney:20250426T170000
DTSTAMP:20260424T005158
CREATED:20250209T235616Z
LAST-MODIFIED:20250210T041235Z
UID:10005984-1745654400-1745686800@casinorsm.com.au
SUMMARY:COUNTRY MUD at the Club
DESCRIPTION:The second show in our 2025 ‘Country Series’ is the awesome country music band\, Country Mud.\nCountry Mud aren’t your usual country covers band…they will shake the foundations with pure energy of Modern Country Rock\, combining Southern Rock and Country Rock with that Gritty Outlaw flavour.\nThe band has developed a great sound with a dynamic front man\, & punchy guitar tones supporting their multi-harmony vocal delivery.\nYou may have seen them perform at the Club during Beef Week in 2024\, and if you did\, you will know you’re in for a great show!
URL:https://casinorsm.com.au/event/country-mud-at-the-club/
LOCATION:Casino RSM
ATTACH;FMTTYPE=image/png:https://casinorsm.com.au/wp-content/uploads/2025/02/APRIL-26-COUNTRY-MUD.png
END:VEVENT
END:VCALENDAR